BEGIN:VCALENDAR
VERSION:2.0
PRODID:-//HB4 – Handballclub Blauboys Binningen - ECPv4.6.24//NONSGML v1.0//EN
CALSCALE:GREGORIAN
METHOD:PUBLISH
X-WR-CALNAME:HB4 – Handballclub Blauboys Binningen
X-ORIGINAL-URL:https://www.blauboys-binningen.ch
X-WR-CALDESC:Veranstaltungen für HB4 – Handballclub Blauboys Binningen
BEGIN:VEVENT
DTSTART;TZID=Europe/Berlin:20241122T183000
DTEND;TZID=Europe/Berlin:20241122T223000
DTSTAMP:20260424T061007
CREATED:20240829T072257Z
LAST-MODIFIED:20240829T072257Z
UID:1719-1732300200-1732314600@www.blauboys-binningen.ch
SUMMARY:Bürgermetzgete Binningen
DESCRIPTION:Unsere Aktivmitglieder sowie die ältesten Junior:innen übernehmen den Kronenmattsaal und helfen der Bürgergemeinde Binningen bei der Durchführung der Bürgermetzgete 2024. \n
URL:https://www.blauboys-binningen.ch/event/buergermetzgete-binningen/
LOCATION:Kronenmattsaal Binningen\, Weihermattstrasse 10\, Binningen\, 4102
END:VEVENT
END:VCALENDAR