BEGIN:VCALENDAR
VERSION:2.0
PRODID:-//HB4 – Handballclub Blauboys Binningen - ECPv4.6.24//NONSGML v1.0//EN
CALSCALE:GREGORIAN
METHOD:PUBLISH
X-WR-CALNAME:HB4 – Handballclub Blauboys Binningen
X-ORIGINAL-URL:https://www.blauboys-binningen.ch
X-WR-CALDESC:Veranstaltungen für HB4 – Handballclub Blauboys Binningen
BEGIN:VEVENT
DTSTART;VALUE=DATE:20180916
DTEND;VALUE=DATE:20180917
DTSTAMP:20260424T075510
CREATED:20180419T190244Z
LAST-MODIFIED:20180419T190351Z
UID:1013-1537056000-1537142399@www.blauboys-binningen.ch
SUMMARY:Dorffest Binningen
DESCRIPTION:Datum: Freitag\, 14. September – Sonntag\, 16. September 2018 \nOrt:       Beim Schloss Binningen \n
URL:https://www.blauboys-binningen.ch/event/dorffest-binningen-3/
END:VEVENT
END:VCALENDAR