BEGIN:VCALENDAR
VERSION:2.0
PRODID:-//HB4 – Handballclub Blauboys Binningen - ECPv4.6.24//NONSGML v1.0//EN
CALSCALE:GREGORIAN
METHOD:PUBLISH
X-WR-CALNAME:HB4 – Handballclub Blauboys Binningen
X-ORIGINAL-URL:https://www.blauboys-binningen.ch
X-WR-CALDESC:Veranstaltungen für HB4 – Handballclub Blauboys Binningen
BEGIN:VEVENT
DTSTART;VALUE=DATE:20180914
DTEND;VALUE=DATE:20180915
DTSTAMP:20260424T091618
CREATED:20180419T190059Z
LAST-MODIFIED:20180419T190428Z
UID:1009-1536883200-1536969599@www.blauboys-binningen.ch
SUMMARY:Dorffest Binningen
DESCRIPTION:Datum: Freitag\, 14. September – Sonntag\, 16. September 2018 \nOrt:       Beim Schloss Binningen \n
URL:https://www.blauboys-binningen.ch/event/dorffest-binningen/
END:VEVENT
END:VCALENDAR