BEGIN:VCALENDAR
VERSION:2.0
PRODID:-//HB4 – Handballclub Blauboys Binningen - ECPv4.6.24//NONSGML v1.0//EN
CALSCALE:GREGORIAN
METHOD:PUBLISH
X-WR-CALNAME:HB4 – Handballclub Blauboys Binningen
X-ORIGINAL-URL:https://www.blauboys-binningen.ch
X-WR-CALDESC:Veranstaltungen für HB4 – Handballclub Blauboys Binningen
BEGIN:VEVENT
DTSTART;TZID=Europe/Berlin:20170616T191500
DTEND;TZID=Europe/Berlin:20170616T191500
DTSTAMP:20260424T124217
CREATED:20170522T094824Z
LAST-MODIFIED:20170602T063525Z
UID:469-1497640500-1497640500@www.blauboys-binningen.ch
SUMMARY:GV HB Blau Boys Binningen
DESCRIPTION:
URL:https://www.blauboys-binningen.ch/event/gv-hb-blau-boys-binningen/
LOCATION:Tribünen-Restaurant Spiegelfeld\, Ziegelweg\, Binningen\, 4102\, Schweiz
END:VEVENT
END:VCALENDAR