BEGIN:VCALENDAR
VERSION:2.0
PRODID:-//HB4 – Handballclub Blauboys Binningen - ECPv4.6.24//NONSGML v1.0//EN
CALSCALE:GREGORIAN
METHOD:PUBLISH
X-WR-CALNAME:HB4 – Handballclub Blauboys Binningen
X-ORIGINAL-URL:https://www.blauboys-binningen.ch
X-WR-CALDESC:Veranstaltungen für HB4 – Handballclub Blauboys Binningen
BEGIN:VEVENT
DTSTART;TZID=Europe/Berlin:20241109T120000
DTEND;TZID=Europe/Berlin:20241109T200000
DTSTAMP:20260424T075706
CREATED:20240829T071911Z
LAST-MODIFIED:20240829T071911Z
UID:1716-1731153600-1731182400@www.blauboys-binningen.ch
SUMMARY:HB4 Sponsorenapéro
DESCRIPTION:Während der vollrunde im Spiegelfeld sind unsere Sponsoren herzlich zum Apéro eingeladen (Infos dazu folgen separat). \nDie Verpflegung wird vom legendären TCW-Küchenteam übernommen. Unsere regulären Besucher dürfen sich also auch auf kulinarische Köstlichkeiten freuen 🙂 \nSpiele:\n12:00 – FU18– HSG Juniorinnen Nordwest vs. SG Wyland-Winti 1\n14:00– MU13– HB Blau Boys Binningen vs. HC Therwil\n16:00– F2– SG Oberwil vs. TSV Frick I\n18:00– M3– HB Blau Boys Binningen vs. TV Kleinbasel II \n  \n  \n
URL:https://www.blauboys-binningen.ch/event/hb4-sponsorenapero/
LOCATION:Spiegelfeld\, Im Spiegelfeld\, Binningen\, 4102\, Schweiz
END:VEVENT
END:VCALENDAR