BEGIN:VCALENDAR
VERSION:2.0
PRODID:-//HB4 – Handballclub Blauboys Binningen - ECPv4.6.24//NONSGML v1.0//EN
CALSCALE:GREGORIAN
METHOD:PUBLISH
X-WR-CALNAME:HB4 – Handballclub Blauboys Binningen
X-ORIGINAL-URL:https://www.blauboys-binningen.ch
X-WR-CALDESC:Veranstaltungen für HB4 – Handballclub Blauboys Binningen
BEGIN:VEVENT
DTSTART;TZID=Europe/Berlin:20170627T190000
DTEND;TZID=Europe/Berlin:20170627T190000
DTSTAMP:20260424T111828
CREATED:20170522T095834Z
LAST-MODIFIED:20170602T063525Z
UID:475-1498590000-1498590000@www.blauboys-binningen.ch
SUMMARY:HV HC Oberwil
DESCRIPTION:
URL:https://www.blauboys-binningen.ch/event/hv-hc-oberwil/
END:VEVENT
END:VCALENDAR