BEGIN:VCALENDAR
VERSION:2.0
PRODID:-//HB4 – Handballclub Blauboys Binningen - ECPv4.6.24//NONSGML v1.0//EN
CALSCALE:GREGORIAN
METHOD:PUBLISH
X-WR-CALNAME:HB4 – Handballclub Blauboys Binningen
X-ORIGINAL-URL:https://www.blauboys-binningen.ch
X-WR-CALDESC:Veranstaltungen für HB4 – Handballclub Blauboys Binningen
BEGIN:VEVENT
DTSTART;TZID=Europe/Berlin:20170614T200000
DTEND;TZID=Europe/Berlin:20170614T200000
DTSTAMP:20260424T124417
CREATED:20170522T094415Z
LAST-MODIFIED:20170602T063525Z
UID:466-1497470400-1497470400@www.blauboys-binningen.ch
SUMMARY:HV HC Therwil
DESCRIPTION:
URL:https://www.blauboys-binningen.ch/event/hv-hc-therwil/
LOCATION:Restaurant Grossmatt\, Ettingerstrasse 32\, Therwil\, 4106\, Schweiz
END:VEVENT
END:VCALENDAR