BEGIN:VCALENDAR
VERSION:2.0
PRODID:-//HB4 – Handballclub Blauboys Binningen - ECPv4.6.24//NONSGML v1.0//EN
CALSCALE:GREGORIAN
METHOD:PUBLISH
X-WR-CALNAME:HB4 – Handballclub Blauboys Binningen
X-ORIGINAL-URL:https://www.blauboys-binningen.ch
X-WR-CALDESC:Veranstaltungen für HB4 – Handballclub Blauboys Binningen
BEGIN:VEVENT
DTSTART;TZID=Europe/Berlin:20170625T100000
DTEND;TZID=Europe/Berlin:20170625T130000
DTSTAMP:20260424T113431
CREATED:20170522T095634Z
LAST-MODIFIED:20170602T063525Z
UID:472-1498384800-1498395600@www.blauboys-binningen.ch
SUMMARY:Plauschturnier HC Oberwil
DESCRIPTION:
URL:https://www.blauboys-binningen.ch/event/plauschturnier-hc-oberwil/
LOCATION:Thomasgarten\, Schmiedengasse 3\, Oberwil\, 4104\, Schweiz
END:VEVENT
END:VCALENDAR