BEGIN:VCALENDAR
VERSION:2.0
PRODID:-//HB4 – Handballclub Blauboys Binningen - ECPv4.6.24//NONSGML v1.0//EN
CALSCALE:GREGORIAN
METHOD:PUBLISH
X-WR-CALNAME:HB4 – Handballclub Blauboys Binningen
X-ORIGINAL-URL:https://www.blauboys-binningen.ch
X-WR-CALDESC:Veranstaltungen für HB4 – Handballclub Blauboys Binningen
BEGIN:VEVENT
DTSTART;TZID=Europe/Berlin:20180608T180000
DTEND;TZID=Europe/Berlin:20180608T230000
DTSTAMP:20260424T093257
CREATED:20180419T184538Z
LAST-MODIFIED:20180419T184538Z
UID:1003-1528480800-1528498800@www.blauboys-binningen.ch
SUMMARY:Sponsorenlauf HB⁴
DESCRIPTION:Datum:  8. Juni 2018 \nBeginn: 18:00 Uhr Einschreiben \nOrt:        Sporthalle Spiegelfeld Binningen \nHB⁴-Beizli ist offen \n
URL:https://www.blauboys-binningen.ch/event/sponsorenlauf-hb%e2%81%b4/
END:VEVENT
END:VCALENDAR