BEGIN:VCALENDAR
VERSION:2.0
PRODID:-//HB4 – Handballclub Blauboys Binningen - ECPv4.6.24//NONSGML v1.0//EN
CALSCALE:GREGORIAN
METHOD:PUBLISH
X-WR-CALNAME:HB4 – Handballclub Blauboys Binningen
X-ORIGINAL-URL:https://www.blauboys-binningen.ch
X-WR-CALDESC:Veranstaltungen für HB4 – Handballclub Blauboys Binningen
BEGIN:VEVENT
DTSTART;TZID=Europe/Berlin:20170609T183000
DTEND;TZID=Europe/Berlin:20170609T193000
DTSTAMP:20260424T124014
CREATED:20170522T094031Z
LAST-MODIFIED:20170602T063525Z
UID:463-1497033000-1497036600@www.blauboys-binningen.ch
SUMMARY:Sponsorenlauf HB4
DESCRIPTION:
URL:https://www.blauboys-binningen.ch/event/sponsorenlauf-hb4/
LOCATION:Spiegelfeld\, Im Spiegelfeld\, Binningen\, 4102\, Schweiz
END:VEVENT
END:VCALENDAR