BEGIN:VCALENDAR
VERSION:2.0
PRODID:-//HB4 – Handballclub Blauboys Binningen - ECPv4.6.24//NONSGML v1.0//EN
CALSCALE:GREGORIAN
METHOD:PUBLISH
X-WR-CALNAME:HB4 – Handballclub Blauboys Binningen
X-ORIGINAL-URL:https://www.blauboys-binningen.ch
X-WR-CALDESC:Veranstaltungen für HB4 – Handballclub Blauboys Binningen
BEGIN:VEVENT
DTSTART;VALUE=DATE:20170807
DTEND;VALUE=DATE:20170812
DTSTAMP:20260424T111217
CREATED:20170522T100133Z
LAST-MODIFIED:20170602T063525Z
UID:478-1502064000-1502495999@www.blauboys-binningen.ch
SUMMARY:Trainingscamp Willisau
DESCRIPTION:
URL:https://www.blauboys-binningen.ch/event/trainingscamp-willisau/
LOCATION:Sportanlage Schlossfeld Willisau\, Freizeitzentrum Schlossfeld\, Willisau\, 6130\, Schweiz
END:VEVENT
END:VCALENDAR