BEGIN:VCALENDAR
VERSION:2.0
PRODID:-//HB4 – Handballclub Blauboys Binningen - ECPv4.6.24//NONSGML v1.0//EN
CALSCALE:GREGORIAN
METHOD:PUBLISH
X-WR-CALNAME:HB4 – Handballclub Blauboys Binningen
X-ORIGINAL-URL:https://www.blauboys-binningen.ch
X-WR-CALDESC:Veranstaltungen für HB4 – Handballclub Blauboys Binningen
BEGIN:VEVENT
DTSTART;TZID=Europe/Berlin:20180812T120000
DTEND;TZID=Europe/Berlin:20180812T200000
DTSTAMP:20260424T092553
CREATED:20180419T185119Z
LAST-MODIFIED:20180419T185323Z
UID:1005-1534075200-1534104000@www.blauboys-binningen.ch
SUMMARY:Traumalix Dolo-Cup
DESCRIPTION:Ort: Sporthalle Rankhof Basel \nBeginn: 10:00 Uhr \nInternationales Handballturnier \n
URL:https://www.blauboys-binningen.ch/event/traumalix-dolo-cup/
END:VEVENT
END:VCALENDAR