BEGIN:VCALENDAR
VERSION:2.0
PRODID:-//HB4 – Handballclub Blauboys Binningen - ECPv4.6.24//NONSGML v1.0//EN
CALSCALE:GREGORIAN
METHOD:PUBLISH
X-WR-CALNAME:HB4 – Handballclub Blauboys Binningen
X-ORIGINAL-URL:https://www.blauboys-binningen.ch
X-WR-CALDESC:Veranstaltungen für HB4 – Handballclub Blauboys Binningen
BEGIN:VEVENT
DTSTART;TZID=Europe/Berlin:20241130T110000
DTEND;TZID=Europe/Berlin:20241130T200000
DTSTAMP:20260424T061205
CREATED:20240829T072617Z
LAST-MODIFIED:20240829T072617Z
UID:1723-1732964400-1732996800@www.blauboys-binningen.ch
SUMMARY:Weihnachtsmarkt beim Schloss
DESCRIPTION:Am Binninger Weihnachtsmarkt werden wir wieder den «HB4-Grillstand» aufstellen und für die Marktbesucher:innen grillieren. \n
URL:https://www.blauboys-binningen.ch/event/weihnachtsmarkt-beim-schloss/
LOCATION:Schloss Binningen\, Schlossgasse 5\, Binningen\, 4102
END:VEVENT
END:VCALENDAR